{
 "version": 1.0,
 "tileBundlesPath": "./tile",
 "storageInfo": {
  "packetSize": 128,
  "storageFormat": "esriMapCacheStorageModeCompactV2"
 },
 "tileImageInfo": {
  "format": "PNG",
  "compressionQuality": 0,
  "bandCount": 1,
  "lercError": 0
 },
 "tileInfo": {
  "spatialReference": {
   "wkid": 102671,
   "latestWkid": 3435
  },
  "origin": {
   "x": 937369.56,
   "y": 1380320.4
  },
  "rows": 256,
  "cols": 256,
  "dpi": 96,
  "lods": [
   {
    "level": 0,
    "resolution": 868.0555555555555,
    "scale": 1000000
   },
   {
    "level": 1,
    "resolution": 434.02777777777777,
    "scale": 500000
   },
   {
    "level": 2,
    "resolution": 217.01388888888889,
    "scale": 250000
   },
   {
    "level": 3,
    "resolution": 108.50694444444444,
    "scale": 125000
   },
   {
    "level": 4,
    "resolution": 54.25347222222222,
    "scale": 62500
   },
   {
    "level": 5,
    "resolution": 27.12673611111111,
    "scale": 31250
   },
   {
    "level": 6,
    "resolution": 13.563368055555555,
    "scale": 15625
   },
   {
    "level": 7,
    "resolution": 6.781684027777778,
    "scale": 7812.5
   },
   {
    "level": 8,
    "resolution": 3.390842013888889,
    "scale": 3906.25
   },
   {
    "level": 9,
    "resolution": 1.6954210069444444,
    "scale": 1953.125
   },
   {
    "level": 10,
    "resolution": 0.8477105034722222,
    "scale": 976.5625
   },
   {
    "level": 11,
    "resolution": 0.4238552517361111,
    "scale": 488.28125
   },
   {
    "level": 12,
    "resolution": 0.21192762586805555,
    "scale": 244.140625
   }
  ],
  "format": "PNG",
  "compressionQuality": 0,
  "bandCount": 1,
  "lercError": 0,
  "storageFormat": "esriMapCacheStorageModeCompactV2",
  "packetSize": 128
 },
 "name": "Plan Basemap",
 "serviceDescription": "",
 "spatialReference": {
  "wkid": 102671,
  "latestWkid": 3435,
  "xyTolerance": 0.003280833333333333,
  "zTolerance": 0.001,
  "mTolerance": 0.001,
  "falseX": -17463800,
  "falseY": -46132600,
  "xyUnits": 3048.0060960121928,
  "falseZ": -100000,
  "zUnits": 10000,
  "falseM": -100000,
  "mUnits": 10000
 },
 "units": "esriFeet",
 "minLOD": 1,
 "resampling": true,
 "layers": [
  {
   "id": 0,
   "name": "Champaign_ETJ",
   "parentLayerId": -1,
   "defaultVisibility": false,
   "subLayerIds": null,
   "minScale": 0,
   "maxScale": 0,
   "type": "Feature Layer",
   "geometryType": "esriGeometryPolygon",
   "supportsDynamicLegends": true,
   "legend": [
    {
     "label": "",
     "imageData": "iVBORw0KGgoAAAANSUhEUgAAABQAAAAUCAYAAACNiR0NAAAACXBIWXMAAA7EAAAOxAGVKw4bAAAANUlEQVQ4jWPJy8v7z0BFwMLAwMBQntJHFcM65xRBDKQmGDVw1MBRA0cNHDUQycDOOUVUMxAAfUsHMRj60VMAAAAASUVORK5CYII=",
     "contentType": "image/png",
     "groupId": "0",
     "height": 20,
     "width": 20,
     "layerId": 0,
     "layerName": "Champaign_ETJ"
    }
   ],
   "layerId": 0,
   "layerName": "Champaign_ETJ",
   "serviceItemId": "5354dfa056d549c987ece5deade87153"
  },
  {
   "id": 13,
   "name": "Boundaries",
   "parentLayerId": -1,
   "defaultVisibility": true,
   "subLayerIds": [
    17,
    12,
    11
   ],
   "minScale": 0,
   "maxScale": 0,
   "type": "Group Layer",
   "supportsDynamicLegends": false,
   "layerId": 13,
   "layerName": "Boundaries",
   "serviceItemId": "5354dfa056d549c987ece5deade87153"
  },
  {
   "id": 17,
   "name": "TaxParcelDissolve",
   "parentLayerId": 13,
   "defaultVisibility": true,
   "subLayerIds": null,
   "minScale": 7000,
   "maxScale": 1,
   "type": "Feature Layer",
   "geometryType": "esriGeometryPolygon",
   "supportsDynamicLegends": true,
   "legend": [
    {
     "label": "",
     "imageData": "iVBORw0KGgoAAAANSUhEUgAAABQAAAAUCAYAAACNiR0NAAAACXBIWXMAAA7EAAAOxAGVKw4bAAAANElEQVQ4je3VMQ0AQAzDwLxUqIFlrv21ADLGAG71AKtgI0m2XwIDdhLQrWDBggULHjC5gQ/ipQn3HxJ0WQAAAABJRU5ErkJggg==",
     "contentType": "image/png",
     "groupId": "0",
     "height": 20,
     "width": 20,
     "layerId": 17,
     "layerName": "TaxParcelDissolve"
    }
   ],
   "layerId": 17,
   "layerName": "TaxParcelDissolve",
   "serviceItemId": "5354dfa056d549c987ece5deade87153"
  },
  {
   "id": 12,
   "name": "Champaign selection",
   "parentLayerId": 13,
   "defaultVisibility": true,
   "subLayerIds": null,
   "minScale": 0,
   "maxScale": 0,
   "type": "Feature Layer",
   "geometryType": "esriGeometryPolygon",
   "supportsDynamicLegends": true,
   "legend": [
    {
     "label": "",
     "imageData": "iVBORw0KGgoAAAANSUhEUgAAABQAAAAUCAYAAACNiR0NAAAACXBIWXMAAA7EAAAOxAGVKw4bAAAAYUlEQVQ4jWNhgAKXlK40Bjxgz5yyWcSoZcGmgRDApdYlpSuNxSWlK40UwwhZxEJYGWlgcBvoktKVNrhdSBsDqZVk4AZS0zDaGDiaUygCIzWn/GdgsHVJ6SK6iGdgwF8dAAC7yCknM5lCngAAAABJRU5ErkJggg==",
     "contentType": "image/png",
     "groupId": "0",
     "height": 20,
     "width": 20,
     "layerId": 12,
     "layerName": "Champaign selection"
    }
   ],
   "layerId": 12,
   "layerName": "Champaign selection",
   "serviceItemId": "5354dfa056d549c987ece5deade87153"
  },
  {
   "id": 11,
   "name": "MunicipalBoundary",
   "parentLayerId": 13,
   "defaultVisibility": true,
   "subLayerIds": null,
   "minScale": 0,
   "maxScale": 0,
   "type": "Feature Layer",
   "geometryType": "esriGeometryPolygon",
   "supportsDynamicLegends": true,
   "legend": [
    {
     "label": "",
     "imageData": "iVBORw0KGgoAAAANSUhEUgAAABQAAAAUCAYAAACNiR0NAAAACXBIWXMAAA7EAAAOxAGVKw4bAAAAS0lEQVQ4jWNhoDJgGXIG/sejlhGH+H9kOWwuxKWRKIBuIEWGYTOQYjBqIFkAJSKxpUOqJhuKwaiBDAwMuCOGqIKDlLxMVOwP/jAEAJ4DBVZn8Mo5AAAAAElFTkSuQmCC",
     "contentType": "image/png",
     "groupId": "0",
     "height": 20,
     "width": 20,
     "layerId": 11,
     "layerName": "MunicipalBoundary"
    }
   ],
   "layerId": 11,
   "layerName": "MunicipalBoundary",
   "serviceItemId": "5354dfa056d549c987ece5deade87153"
  },
  {
   "id": 8,
   "name": "Water and Open Spaces",
   "parentLayerId": -1,
   "defaultVisibility": true,
   "subLayerIds": [
    7,
    5,
    4,
    6,
    3
   ],
   "minScale": 0,
   "maxScale": 0,
   "type": "Group Layer",
   "supportsDynamicLegends": false,
   "layerId": 8,
   "layerName": "Water and Open Spaces",
   "serviceItemId": "5354dfa056d549c987ece5deade87153"
  },
  {
   "id": 7,
   "name": "Lake",
   "parentLayerId": 8,
   "defaultVisibility": true,
   "subLayerIds": null,
   "minScale": 20001,
   "maxScale": 0,
   "type": "Feature Layer",
   "geometryType": "esriGeometryPolygon",
   "supportsDynamicLegends": true,
   "legend": [
    {
     "label": "Standing Water",
     "imageData": "iVBORw0KGgoAAAANSUhEUgAAABQAAAAUCAYAAACNiR0NAAAACXBIWXMAAA7EAAAOxAGVKw4bAAAALklEQVQ4jWNJm3n2PwOVwKx0Y0YWahkGA6MGjho4auCogaMG0srAWenGjNQ0EABbpgWGNXf0HAAAAABJRU5ErkJggg==",
     "contentType": "image/png",
     "groupId": "0",
     "height": 20,
     "width": 20,
     "values": [
      "1"
     ],
     "layerId": 7,
     "layerName": "Lake"
    },
    {
     "label": "Sanitary Treatment",
     "imageData": "iVBORw0KGgoAAAANSUhEUgAAABQAAAAUCAYAAACNiR0NAAAACXBIWXMAAA7EAAAOxAGVKw4bAAAALklEQVQ4jWOZt/v6fwYqgSRXTUYWahkGA6MGjho4auCogaMG0srAJFdNRmoaCABaTAUiNksNRwAAAABJRU5ErkJggg==",
     "contentType": "image/png",
     "groupId": "0",
     "height": 20,
     "width": 20,
     "values": [
      "2"
     ],
     "layerId": 7,
     "layerName": "Lake"
    },
    {
     "label": "",
     "imageData": "iVBORw0KGgoAAAANSUhEUgAAABQAAAAUCAYAAACNiR0NAAAACXBIWXMAAA7EAAAOxAGVKw4bAAAANElEQVQ4je3MIQEAMAwDwYBKqM4ofw8bGJmAwJyAG9tHQSNJuxvJgBcmNWzYsGHDLwRi4QWAuwhepvwSKgAAAABJRU5ErkJggg==",
     "contentType": "image/png",
     "groupId": "1",
     "height": 20,
     "width": 20,
     "layerId": 7,
     "layerName": "Lake"
    }
   ],
   "layerId": 7,
   "layerName": "Lake",
   "serviceItemId": "5354dfa056d549c987ece5deade87153"
  },
  {
   "id": 5,
   "name": "StreamPolygon",
   "parentLayerId": 8,
   "defaultVisibility": true,
   "subLayerIds": null,
   "minScale": 0,
   "maxScale": 0,
   "type": "Feature Layer",
   "geometryType": "esriGeometryPolygon",
   "supportsDynamicLegends": true,
   "legend": [
    {
     "label": "",
     "imageData": "iVBORw0KGgoAAAANSUhEUgAAABQAAAAUCAYAAACNiR0NAAAACXBIWXMAAA7EAAAOxAGVKw4bAAAALklEQVQ4jWOZt/v6fwYqgSRXTUYWahkGA6MGjho4auCogaMG0srAJFdNRmoaCABaTAUiNksNRwAAAABJRU5ErkJggg==",
     "contentType": "image/png",
     "groupId": "0",
     "height": 20,
     "width": 20,
     "layerId": 5,
     "layerName": "StreamPolygon"
    }
   ],
   "layerId": 5,
   "layerName": "StreamPolygon",
   "serviceItemId": "5354dfa056d549c987ece5deade87153"
  },
  {
   "id": 4,
   "name": "HydrologyCL",
   "parentLayerId": 8,
   "defaultVisibility": true,
   "subLayerIds": null,
   "minScale": 20001,
   "maxScale": 0,
   "type": "Feature Layer",
   "geometryType": "esriGeometryPolyline",
   "supportsDynamicLegends": true,
   "legend": [
    {
     "label": "Non-Intermittent",
     "imageData": "iVBORw0KGgoAAAANSUhEUgAAABQAAAAUCAYAAACNiR0NAAAACXBIWXMAAA7EAAAOxAGVKw4bAAAAL0lEQVQ4jWNhoDJgGTVw1MBha2DazLP/qWHYrHRjRhYYgxoGMjAMmTAcNXCYGwgAsTgFhuEPHJYAAAAASUVORK5CYII=",
     "contentType": "image/png",
     "groupId": "0",
     "height": 20,
     "width": 20,
     "values": [
      "0"
     ],
     "layerId": 4,
     "layerName": "HydrologyCL"
    },
    {
     "label": "Intermittent",
     "imageData": "iVBORw0KGgoAAAANSUhEUgAAABQAAAAUCAYAAACNiR0NAAAACXBIWXMAAA7EAAAOxAGVKw4bAAAAL0lEQVQ4jWNhoDJgGTVw1MBha+C83df/U8OwJFdNRhYYgxoGMjAMmTAcNXCYGwgAsq8FIvEQxVEAAAAASUVORK5CYII=",
     "contentType": "image/png",
     "groupId": "0",
     "height": 20,
     "width": 20,
     "values": [
      "1"
     ],
     "layerId": 4,
     "layerName": "HydrologyCL"
    },
    {
     "label": "",
     "imageData": "iVBORw0KGgoAAAANSUhEUgAAABQAAAAUCAYAAACNiR0NAAAACXBIWXMAAA7EAAAOxAGVKw4bAAAALklEQVQ4jWNhoDJgGTVw1MBha2BTU9N/ahhWV1fHyAJjUMNABoYhE4ajBg5zAwFi4gXM3XtVjgAAAABJRU5ErkJggg==",
     "contentType": "image/png",
     "groupId": "1",
     "height": 20,
     "width": 20,
     "layerId": 4,
     "layerName": "HydrologyCL"
    }
   ],
   "layerId": 4,
   "layerName": "HydrologyCL",
   "serviceItemId": "5354dfa056d549c987ece5deade87153"
  },
  {
   "id": 6,
   "name": "OpenSpaces",
   "parentLayerId": 8,
   "defaultVisibility": true,
   "subLayerIds": null,
   "minScale": 0,
   "maxScale": 0,
   "type": "Feature Layer",
   "geometryType": "esriGeometryPolygon",
   "supportsDynamicLegends": true,
   "legend": [
    {
     "label": "",
     "imageData": "iVBORw0KGgoAAAANSUhEUgAAABQAAAAUCAYAAACNiR0NAAAACXBIWXMAAA7EAAAOxAGVKw4bAAAALklEQVQ4jWMJrY5IY6ASWN26YhYLtQyDgVEDRw0cNXDUwFEDaWXg6tYVs6hpIABdxwbDUxEONgAAAABJRU5ErkJggg==",
     "contentType": "image/png",
     "groupId": "0",
     "height": 20,
     "width": 20,
     "layerId": 6,
     "layerName": "OpenSpaces"
    }
   ],
   "layerId": 6,
   "layerName": "OpenSpaces",
   "serviceItemId": "5354dfa056d549c987ece5deade87153"
  },
  {
   "id": 3,
   "name": "Landscape_Areas",
   "parentLayerId": 8,
   "defaultVisibility": true,
   "subLayerIds": null,
   "minScale": 5000,
   "maxScale": 0,
   "type": "Feature Layer",
   "geometryType": "esriGeometryPolygon",
   "supportsDynamicLegends": true,
   "legend": [
    {
     "label": "",
     "imageData": "iVBORw0KGgoAAAANSUhEUgAAABQAAAAUCAYAAACNiR0NAAAACXBIWXMAAA7EAAAOxAGVKw4bAAAALklEQVQ4jWMR8GBwYKAS+LCD4QALtQyDgVEDRw0cNXDUwFEDaWXghx0MB6hpIAAM8AW5K7O6XAAAAABJRU5ErkJggg==",
     "contentType": "image/png",
     "groupId": "0",
     "height": 20,
     "width": 20,
     "layerId": 3,
     "layerName": "Landscape_Areas"
    }
   ],
   "layerId": 3,
   "layerName": "Landscape_Areas",
   "serviceItemId": "5354dfa056d549c987ece5deade87153"
  },
  {
   "id": 10,
   "name": "Transportation",
   "parentLayerId": -1,
   "defaultVisibility": true,
   "subLayerIds": [
    16,
    15,
    18,
    19,
    2,
    9
   ],
   "minScale": 0,
   "maxScale": 0,
   "type": "Group Layer",
   "supportsDynamicLegends": false,
   "layerId": 10,
   "layerName": "Transportation",
   "serviceItemId": "5354dfa056d549c987ece5deade87153"
  },
  {
   "id": 16,
   "name": "Alleys",
   "parentLayerId": 10,
   "defaultVisibility": true,
   "subLayerIds": null,
   "minScale": 8000,
   "maxScale": 0,
   "type": "Feature Layer",
   "geometryType": "esriGeometryPolygon",
   "supportsDynamicLegends": true,
   "legend": [
    {
     "label": "",
     "imageData": "iVBORw0KGgoAAAANSUhEUgAAABQAAAAUCAYAAACNiR0NAAAACXBIWXMAAA7EAAAOxAGVKw4bAAAANElEQVQ4je3MIQEAMAwDwYA6qn8HeU0bGJmAwJyAG9tHQSNJuxvJgBcmNWzYsGHDLwRi4QV2YQkbxGGrogAAAABJRU5ErkJggg==",
     "contentType": "image/png",
     "groupId": "0",
     "height": 20,
     "width": 20,
     "layerId": 16,
     "layerName": "Alleys"
    }
   ],
   "layerId": 16,
   "layerName": "Alleys",
   "serviceItemId": "5354dfa056d549c987ece5deade87153"
  },
  {
   "id": 15,
   "name": "Islands",
   "parentLayerId": 10,
   "defaultVisibility": true,
   "subLayerIds": null,
   "minScale": 4000,
   "maxScale": 0,
   "type": "Feature Layer",
   "geometryType": "esriGeometryPolygon",
   "supportsDynamicLegends": true,
   "legend": [
    {
     "label": "",
     "imageData": "iVBORw0KGgoAAAANSUhEUgAAABQAAAAUCAYAAACNiR0NAAAACXBIWXMAAA7EAAAOxAGVKw4bAAAANElEQVQ4je3MIQEAMAwDwYCKrYUoeNkbGJmAwJyAm909ChpJsh3JgBcmNWzYsGHDLwRi4QULagcdVGHYUgAAAABJRU5ErkJggg==",
     "contentType": "image/png",
     "groupId": "0",
     "height": 20,
     "width": 20,
     "layerId": 15,
     "layerName": "Islands"
    }
   ],
   "layerId": 15,
   "layerName": "Islands",
   "serviceItemId": "5354dfa056d549c987ece5deade87153"
  },
  {
   "id": 18,
   "name": "Railroads",
   "parentLayerId": 10,
   "defaultVisibility": true,
   "subLayerIds": null,
   "minScale": 0,
   "maxScale": 0,
   "type": "Feature Layer",
   "geometryType": "esriGeometryPolyline",
   "supportsDynamicLegends": true,
   "legend": [
    {
     "label": "No longer railroad",
     "imageData": "iVBORw0KGgoAAAANSUhEUgAAABQAAAAUCAYAAACNiR0NAAAACXBIWXMAAA7EAAAOxAGVKw4bAAAAG0lEQVQ4jWNhoDJgGTVw1MBRA0cNHDVwpBoIABArAFHmDwDcAAAAAElFTkSuQmCC",
     "contentType": "image/png",
     "groupId": "0",
     "height": 20,
     "width": 20,
     "values": [
      "",
      "N"
     ],
     "layerId": 18,
     "layerName": "Railroads"
    },
    {
     "label": "Railroad",
     "imageData": "iVBORw0KGgoAAAANSUhEUgAAABQAAAAUCAYAAACNiR0NAAAACXBIWXMAAA7EAAAOxAGVKw4bAAAAQElEQVQ4jWNhoDJgGTVw1EBMkJGR8X/GjBmMVDOQEKCdgRkZGf+J1YRNLSwYWNAFiDFscIchIZ8MvAtHDaS9gQB7nBIaLFUmKAAAAABJRU5ErkJggg==",
     "contentType": "image/png",
     "groupId": "0",
     "height": 20,
     "width": 20,
     "values": [
      "Y"
     ],
     "layerId": 18,
     "layerName": "Railroads"
    }
   ],
   "layerId": 18,
   "layerName": "Railroads",
   "serviceItemId": "5354dfa056d549c987ece5deade87153"
  },
  {
   "id": 19,
   "name": "Pavement",
   "parentLayerId": 10,
   "defaultVisibility": true,
   "subLayerIds": null,
   "minScale": 0,
   "maxScale": 0,
   "type": "Feature Layer",
   "geometryType": "esriGeometryPolygon",
   "supportsDynamicLegends": true,
   "legend": [
    {
     "label": "",
     "imageData": "iVBORw0KGgoAAAANSUhEUgAAABQAAAAUCAYAAACNiR0NAAAACXBIWXMAAA7EAAAOxAGVKw4bAAAANElEQVQ4je3MIQEAMAwDwYAKquCIekcbGJmAwJyAG9tHQSNJuxvJgBcmNWzYsGHDLwRi4QXoIAiUVtXV6AAAAABJRU5ErkJggg==",
     "contentType": "image/png",
     "groupId": "0",
     "height": 20,
     "width": 20,
     "layerId": 19,
     "layerName": "Pavement"
    }
   ],
   "layerId": 19,
   "layerName": "Pavement",
   "serviceItemId": "5354dfa056d549c987ece5deade87153"
  },
  {
   "id": 2,
   "name": "Sidewalks",
   "parentLayerId": 10,
   "defaultVisibility": true,
   "subLayerIds": null,
   "minScale": 2000,
   "maxScale": 0,
   "type": "Feature Layer",
   "geometryType": "esriGeometryPolyline",
   "supportsDynamicLegends": true,
   "legend": [
    {
     "label": "City",
     "imageData": "iVBORw0KGgoAAAANSUhEUgAAABQAAAAUCAYAAACNiR0NAAAACXBIWXMAAA7EAAAOxAGVKw4bAAAAV0lEQVQ4je2SsQ3AQAgDHYl92IRhvYlHYBJSfZMy8EWUv9LFyTIYhrEj/JOQZHVEEXEBgJEsd+8WQ2aWJNiEbOHuGzaUhKmWkmBrzLGjPIMuH3rsI3zNDaACGmtQVpqxAAAAAElFTkSuQmCC",
     "contentType": "image/png",
     "groupId": "0",
     "height": 20,
     "width": 20,
     "values": [
      "Champaign"
     ],
     "layerId": 2,
     "layerName": "Sidewalks"
    },
    {
     "label": "Gap",
     "imageData": "iVBORw0KGgoAAAANSUhEUgAAABQAAAAUCAYAAACNiR0NAAAACXBIWXMAAA7EAAAOxAGVKw4bAAAAG0lEQVQ4jWNhoDJgGTVw1MBRA0cNHDVwpBoIABArAFHmDwDcAAAAAElFTkSuQmCC",
     "contentType": "image/png",
     "groupId": "0",
     "height": 20,
     "width": 20,
     "values": [
      "Gap"
     ],
     "layerId": 2,
     "layerName": "Sidewalks"
    },
    {
     "label": "Private",
     "imageData": "iVBORw0KGgoAAAANSUhEUgAAABQAAAAUCAYAAACNiR0NAAAACXBIWXMAAA7EAAAOxAGVKw4bAAAAWElEQVQ4je2SsQ3AQAgDHYkVvAn7T8AS1B6CVN+kDHwR5a90cbIMhmHsCP8kjIjqiNz9AgCLiCLZLYbMLEmwCdmC5IYNJWGqpSTYGnPsKM+gy4ce+whfcwMrAxnPohwtvwAAAABJRU5ErkJggg==",
     "contentType": "image/png",
     "groupId": "0",
     "height": 20,
     "width": 20,
     "values": [
      "Home Owners Association",
      "Private"
     ],
     "layerId": 2,
     "layerName": "Sidewalks"
    },
    {
     "label": "Other Public",
     "imageData": "iVBORw0KGgoAAAANSUhEUgAAABQAAAAUCAYAAACNiR0NAAAACXBIWXMAAA7EAAAOxAGVKw4bAAAAV0lEQVQ4je2SsQ3AQAgDHYnV2ISxvImnYRJSfZMy8EWUv9LFyTIYhrEj/JOQZHVEEXEBgJEsd+8WQ2aWJNiEbOHuGzaUhKmWkmBrzLGjPIMuH3rsI3zNDduhGu8laslZAAAAAElFTkSuQmCC",
     "contentType": "image/png",
     "groupId": "0",
     "height": 20,
     "width": 20,
     "values": [
      "Park District",
      "IDOT",
      "Township",
      "U of I",
      "Unit 4"
     ],
     "layerId": 2,
     "layerName": "Sidewalks"
    }
   ],
   "layerId": 2,
   "layerName": "Sidewalks",
   "serviceItemId": "5354dfa056d549c987ece5deade87153"
  },
  {
   "id": 9,
   "name": "StreetCL",
   "parentLayerId": 10,
   "defaultVisibility": true,
   "subLayerIds": null,
   "minScale": 500000,
   "maxScale": 1,
   "type": "Feature Layer",
   "geometryType": "esriGeometryPolyline",
   "supportsDynamicLegends": true,
   "legend": [
    {
     "label": "Interstate Lane",
     "imageData": "iVBORw0KGgoAAAANSUhEUgAAABQAAAAUCAYAAACNiR0NAAAACXBIWXMAAA7EAAAOxAGVKw4bAAAAMUlEQVQ4jWNhoDJgGTVw1MDBYqCJicl/ahh25swZRtq48MyZM4xUNZCaYNTAUQPJAAD6HQa2m0DMUQAAAABJRU5ErkJggg==",
     "contentType": "image/png",
     "groupId": "0",
     "height": 20,
     "width": 20,
     "values": [
      "A"
     ],
     "layerId": 9,
     "layerName": "StreetCL"
    },
    {
     "label": "Interstate Ramps",
     "imageData": "iVBORw0KGgoAAAANSUhEUgAAABQAAAAUCAYAAACNiR0NAAAACXBIWXMAAA7EAAAOxAGVKw4bAAAAL0lEQVQ4jWNhoDJgGTVw1MBha6Camtp/ahh269YtRhYYgxoGMjAMmTAcNXCYGwgAIOsG4PbFoSoAAAAASUVORK5CYII=",
     "contentType": "image/png",
     "groupId": "0",
     "height": 20,
     "width": 20,
     "values": [
      "B"
     ],
     "layerId": 9,
     "layerName": "StreetCL"
    },
    {
     "label": "Federal Routes",
     "imageData": "iVBORw0KGgoAAAANSUhEUgAAABQAAAAUCAYAAACNiR0NAAAACXBIWXMAAA7EAAAOxAGVKw4bAAAAMUlEQVQ4jWNhoDJgGTVw1MDBYmBGRsZ/ahg2Y8YMRtq4cMaMGYxUNZCaYNTAUQPJAABtWgYaJL+UMQAAAABJRU5ErkJggg==",
     "contentType": "image/png",
     "groupId": "0",
     "height": 20,
     "width": 20,
     "values": [
      "C"
     ],
     "layerId": 9,
     "layerName": "StreetCL"
    },
    {
     "label": "State Routes",
     "imageData": "iVBORw0KGgoAAAANSUhEUgAAABQAAAAUCAYAAACNiR0NAAAACXBIWXMAAA7EAAAOxAGVKw4bAAAAMUlEQVQ4jWNhoDJgGTVw1MDBYmBGRsZ/ahg2Y8YMRtq4cMaMGYxUNZCaYNTAUQPJAABtWgYaJL+UMQAAAABJRU5ErkJggg==",
     "contentType": "image/png",
     "groupId": "0",
     "height": 20,
     "width": 20,
     "values": [
      "D"
     ],
     "layerId": 9,
     "layerName": "StreetCL"
    },
    {
     "label": "County Highways",
     "imageData": "iVBORw0KGgoAAAANSUhEUgAAABQAAAAUCAYAAACNiR0NAAAACXBIWXMAAA7EAAAOxAGVKw4bAAAAL0lEQVQ4jWNhoDJgGTVw1MBha2BGRsZ/ahg2Y8YMRhYYgxoGMjAMmTAcNXCYGwgAKUsGGh9+98kAAAAASUVORK5CYII=",
     "contentType": "image/png",
     "groupId": "0",
     "height": 20,
     "width": 20,
     "values": [
      "E"
     ],
     "layerId": 9,
     "layerName": "StreetCL"
    },
    {
     "label": "Roads Major",
     "imageData": "iVBORw0KGgoAAAANSUhEUgAAABQAAAAUCAYAAACNiR0NAAAACXBIWXMAAA7EAAAOxAGVKw4bAAAALklEQVQ4jWNhoDJgGTVw1MBha2BZael/ahjW1d3NyAJjUMNABoYhE4ajBg5zAwHDgwXya1A/MgAAAABJRU5ErkJggg==",
     "contentType": "image/png",
     "groupId": "0",
     "height": 20,
     "width": 20,
     "values": [
      "F"
     ],
     "layerId": 9,
     "layerName": "StreetCL"
    },
    {
     "label": "Roads Minor",
     "imageData": "iVBORw0KGgoAAAANSUhEUgAAABQAAAAUCAYAAACNiR0NAAAACXBIWXMAAA7EAAAOxAGVKw4bAAAAL0lEQVQ4jWNhoDJgGTVw1MBha+CmTZv+U8MwPz8/RhYYgxoGMjAMmTAcNXCYGwgA9JQFPOtTUSMAAAAASUVORK5CYII=",
     "contentType": "image/png",
     "groupId": "0",
     "height": 20,
     "width": 20,
     "values": [
      "G"
     ],
     "layerId": 9,
     "layerName": "StreetCL"
    },
    {
     "label": "Private Roads",
     "imageData": "iVBORw0KGgoAAAANSUhEUgAAABQAAAAUCAYAAACNiR0NAAAACXBIWXMAAA7EAAAOxAGVKw4bAAAAM0lEQVQ4jWNhoDJgGTVw1MBha+CZM2f+IwuamJgw4tJASC0LIQPQASG1QyQMRw0c5gYCAMXuCYsdAdmGAAAAAElFTkSuQmCC",
     "contentType": "image/png",
     "groupId": "0",
     "height": 20,
     "width": 20,
     "values": [
      "H"
     ],
     "layerId": 9,
     "layerName": "StreetCL"
    },
    {
     "label": "Outside County",
     "imageData": "iVBORw0KGgoAAAANSUhEUgAAABQAAAAUCAYAAACNiR0NAAAACXBIWXMAAA7EAAAOxAGVKw4bAAAAL0lEQVQ4jWNhoDJgGTVw1MBha+CzR4/+U8MwKTk5RhYYgxoGMjAMmTAcNXCYGwgAfCUEqPH2AE8AAAAASUVORK5CYII=",
     "contentType": "image/png",
     "groupId": "0",
     "height": 20,
     "width": 20,
     "values": [
      "I"
     ],
     "layerId": 9,
     "layerName": "StreetCL"
    },
    {
     "label": "Alley",
     "imageData": "iVBORw0KGgoAAAANSUhEUgAAABQAAAAUCAYAAACNiR0NAAAACXBIWXMAAA7EAAAOxAGVKw4bAAAAM0lEQVQ4jWNhoDJgGTVw1MBha+CmTZv+Iwv6+fkx4tJASC0LIQPQASG1QyQMRw0c5gYCAGd4Cid8CXk+AAAAAElFTkSuQmCC",
     "contentType": "image/png",
     "groupId": "0",
     "height": 20,
     "width": 20,
     "values": [
      "J"
     ],
     "layerId": 9,
     "layerName": "StreetCL"
    },
    {
     "label": "Other",
     "imageData": "iVBORw0KGgoAAAANSUhEUgAAABQAAAAUCAYAAACNiR0NAAAACXBIWXMAAA7EAAAOxAGVKw4bAAAAL0lEQVQ4jWNhoDJgGTVw1MBha+CZM2f+U8MwExMTRhYYgxoGMjAMmTAcNXCYGwgALjoE7pqzG/AAAAAASUVORK5CYII=",
     "contentType": "image/png",
     "groupId": "0",
     "height": 20,
     "width": 20,
     "values": [
      "K"
     ],
     "layerId": 9,
     "layerName": "StreetCL"
    },
    {
     "label": "State and Federal Route",
     "imageData": "iVBORw0KGgoAAAANSUhEUgAAABQAAAAUCAYAAACNiR0NAAAACXBIWXMAAA7EAAAOxAGVKw4bAAAAMUlEQVQ4jWNhoDJgGTVw1MDBYmBGRsZ/ahg2Y8YMRtq4cMaMGYxUNZCaYNTAUQPJAABtWgYaJL+UMQAAAABJRU5ErkJggg==",
     "contentType": "image/png",
     "groupId": "0",
     "height": 20,
     "width": 20,
     "values": [
      "L"
     ],
     "layerId": 9,
     "layerName": "StreetCL"
    },
    {
     "label": "Do not Display",
     "imageData": "iVBORw0KGgoAAAANSUhEUgAAABQAAAAUCAYAAACNiR0NAAAACXBIWXMAAA7EAAAOxAGVKw4bAAAAG0lEQVQ4jWNhoDJgGTVw1MBRA0cNHDVwpBoIABArAFHmDwDcAAAAAElFTkSuQmCC",
     "contentType": "image/png",
     "groupId": "0",
     "height": 20,
     "width": 20,
     "values": [
      "X"
     ],
     "layerId": 9,
     "layerName": "StreetCL"
    },
    {
     "label": "",
     "imageData": "iVBORw0KGgoAAAANSUhEUgAAABQAAAAUCAYAAACNiR0NAAAACXBIWXMAAA7EAAAOxAGVKw4bAAAALklEQVQ4jWNhoDJgGTVw1MBha2BTU9N/ahhWV1fHyAJjUMNABoYhE4ajBg5zAwFi4gXM3XtVjgAAAABJRU5ErkJggg==",
     "contentType": "image/png",
     "groupId": "1",
     "height": 20,
     "width": 20,
     "layerId": 9,
     "layerName": "StreetCL"
    }
   ],
   "layerId": 9,
   "layerName": "StreetCL",
   "serviceItemId": "5354dfa056d549c987ece5deade87153"
  }
 ],
 "initialExtent": {
  "xmin": 975767.1298750006,
  "ymin": 1228540.7819999978,
  "xmax": 1023502.5069999993,
  "ymax": 1281556.7777500004,
  "spatialReference": {
   "wkid": 102671,
   "latestWkid": 3435
  }
 },
 "fullExtent": {
  "xmin": 975767.1298750006,
  "ymin": 1228540.7819999978,
  "xmax": 1023502.5069999993,
