<?xml version="1.0" encoding="UTF-8" standalone="no"?>
<metadata xml:lang="en">
<Esri>
<CreaDate>20220307</CreaDate>
<CreaTime>16412400</CreaTime>
<ArcGISFormat>1.0</ArcGISFormat>
<SyncOnce>FALSE</SyncOnce>
<DataProperties>
<lineage>
<Process Date="20171115" Time="103257" ToolSource="c:\program files (x86)\arcgis\desktop10.5\ArcToolbox\Toolboxes\Data Management Tools.tbx\CreateMosaicDataset">CreateMosaicDataset "Database Connections\cocgis@coc_raster@GISSQL2.sde" COC2017_CCGISC_6IN "PROJCS['NAD_1983_2011_StatePlane_Illinois_East_FIPS_1201_Ft_US',GEOGCS['GCS_NAD_1983_2011',DATUM['D_NAD_1983_2011',SPHEROID['GRS_1980',6378137.0,298.257222101]],PRIMEM['Greenwich',0.0],UNIT['Degree',0.0174532925199433]],PROJECTION['Transverse_Mercator'],PARAMETER['False_Easting',984250.0],PARAMETER['False_Northing',0.0],PARAMETER['Central_Meridian',-88.33333333333333],PARAMETER['Scale_Factor',0.999975],PARAMETER['Latitude_Of_Origin',36.66666666666666],UNIT['Foot_US',0.3048006096012192]],VERTCS['NAVD_1988_Foot_US',VDATUM['North_American_Vertical_Datum_1988'],PARAMETER['Vertical_Shift',0.0],PARAMETER['Direction',1.0],UNIT['Foot_US',0.3048006096012192]];-17463800 -46132600 137244822.078466;-100000 10000;-100000 10000;3.28083333333333E-03;0.001;0.001;IsHighPrecision" # # NONE #</Process>
<Process Date="20171115" Time="134721" ToolSource="c:\program files (x86)\arcgis\desktop10.5\ArcToolbox\Toolboxes\Data Management Tools.tbx\BuildOverviews">BuildOverviews "Database Connections\me@coc_raster@GISSQL2.sde\coc_raster.COCGIS.COC2017_CCGISC_6IN" # DEFINE_MISSING_TILES GENERATE_OVERVIEWS IGNORE_MISSING_IMAGES IGNORE_STALE_IMAGES</Process>
<Process Date="20171115" Time="140611" ToolSource="c:\program files (x86)\arcgis\desktop10.5\ArcToolbox\Toolboxes\Data Management Tools.tbx\BuildOverviews">BuildOverviews "Database Connections\cocgis@coc_raster@GISSQL2.sde\coc_raster.COCGIS.COC2017_CCGISC_6IN" # DEFINE_MISSING_TILES GENERATE_OVERVIEWS IGNORE_MISSING_IMAGES IGNORE_STALE_IMAGES</Process>
<Process Date="20171115" Time="141754" ToolSource="c:\program files (x86)\arcgis\desktop10.5\ArcToolbox\Toolboxes\Data Management Tools.tbx\AnalyzeMosaicDataset">AnalyzeMosaicDataset "Database Connections\cocgis@coc_raster@GISSQL2.sde\coc_raster.COCGIS.COC2017_CCGISC_6IN" # FOOTPRINT;FUNCTION;RASTER;PATHS</Process>
<Process Date="20171115" Time="145249" ToolSource="c:\program files (x86)\arcgis\desktop10.5\ArcToolbox\Toolboxes\Data Management Tools.tbx\ColorBalanceMosaicDataset">ColorBalanceMosaicDataset "Database Connections\cocgis@coc_raster@GISSQL2.sde\coc_raster.COCGIS.COC2017_CCGISC_6IN" DODGING COLOR_GRID # # NONE 1 #</Process>
<Process Date="20171117" Time="120629" ToolSource="c:\program files (x86)\arcgis\desktop10.5\ArcToolbox\Toolboxes\Data Management Tools.tbx\AnalyzeMosaicDataset">AnalyzeMosaicDataset "Database Connections\cocgis@coc_raster@GISSQL2.sde\coc_raster.COCGIS.COC2017_CCGISC_6IN" # FOOTPRINT;FUNCTION;RASTER;PATHS</Process>
<Process Date="20171117" Time="121946" ToolSource="c:\program files (x86)\arcgis\desktop10.5\ArcToolbox\Toolboxes\Data Management Tools.tbx\ColorBalanceMosaicDataset">ColorBalanceMosaicDataset "Database Connections\cocgis@coc_raster@GISSQL2.sde\coc_raster.COCGIS.COC2017_CCGISC_6IN" DODGING COLOR_GRID # # NONE 1 #</Process>
<Process Date="20171117" Time="122120" ToolSource="c:\program files (x86)\arcgis\desktop10.5\ArcToolbox\Toolboxes\Data Management Tools.tbx\BuildPyramidsandStatistics">BuildPyramidsandStatistics "Database Connections\cocgis@coc_raster@GISSQL2.sde\coc_raster.COCGIS.COC2017_CCGISC_6IN" INCLUDE_SUBDIRECTORIES BUILD_PYRAMIDS CALCULATE_STATISTICS NONE # NONE 1 1 # -1 NONE NEAREST DEFAULT 75 SKIP_EXISTING #</Process>
<Process Date="20171117" Time="122146" ToolSource="c:\program files (x86)\arcgis\desktop10.5\ArcToolbox\Toolboxes\Data Management Tools.tbx\ColorBalanceMosaicDataset">ColorBalanceMosaicDataset "Database Connections\cocgis@coc_raster@GISSQL2.sde\coc_raster.COCGIS.COC2017_CCGISC_6IN" DODGING COLOR_GRID # # NONE 1 #</Process>
<Process Date="20171117" Time="122253" ToolSource="c:\program files (x86)\arcgis\desktop10.5\ArcToolbox\Toolboxes\Data Management Tools.tbx\BuildPyramidsandStatistics">BuildPyramidsandStatistics "Database Connections\cocgis@coc_raster@GISSQL2.sde\coc_raster.COCGIS.COC2017_CCGISC_6IN" INCLUDE_SUBDIRECTORIES BUILD_PYRAMIDS CALCULATE_STATISTICS NONE # NONE 1 1 # -1 NONE NEAREST DEFAULT 75 SKIP_EXISTING #</Process>
<Process Date="20171117" Time="122309" ToolSource="c:\program files (x86)\arcgis\desktop10.5\ArcToolbox\Toolboxes\Data Management Tools.tbx\ColorBalanceMosaicDataset">ColorBalanceMosaicDataset "Database Connections\cocgis@coc_raster@GISSQL2.sde\coc_raster.COCGIS.COC2017_CCGISC_6IN" DODGING COLOR_GRID # # NONE 1 #</Process>
<Process Date="20171117" Time="122424" ToolSource="c:\program files (x86)\arcgis\desktop10.5\ArcToolbox\Toolboxes\Data Management Tools.tbx\CalculateStatistics">CalculateStatistics "Database Connections\cocgis@coc_raster@GISSQL2.sde\coc_raster.COCGIS.COC2017_CCGISC_6IN" 1 1 # SKIP_EXISTING "Feature Set"</Process>
<Process Date="20171117" Time="122440" ToolSource="c:\program files (x86)\arcgis\desktop10.5\ArcToolbox\Toolboxes\Data Management Tools.tbx\ColorBalanceMosaicDataset">ColorBalanceMosaicDataset "Database Connections\cocgis@coc_raster@GISSQL2.sde\coc_raster.COCGIS.COC2017_CCGISC_6IN" DODGING COLOR_GRID # # NONE 1 #</Process>
<Process Date="20171117" Time="133244" ToolSource="c:\program files (x86)\arcgis\desktop10.5\ArcToolbox\Toolboxes\Data Management Tools.tbx\CalculateStatistics">CalculateStatistics C:\Users\dierckrb.CC\AppData\Roaming\Esri\Desktop10.5\ArcCatalog\cocgis@coc_raster@GISSQL2.sde\coc_raster.COCGIS.COC2017_CCGISC_6IN 1 1 # OVERWRITE "Feature Set"</Process>
<Process Date="20171117" Time="133310" ToolSource="c:\program files (x86)\arcgis\desktop10.5\ArcToolbox\Toolboxes\Data Management Tools.tbx\ColorBalanceMosaicDataset">ColorBalanceMosaicDataset "Database Connections\cocgis@coc_raster@GISSQL2.sde\coc_raster.COCGIS.COC2017_CCGISC_6IN" DODGING COLOR_GRID # # NONE 1 #</Process>
<Process Date="20171117" Time="135040" ToolSource="c:\program files (x86)\arcgis\desktop10.5\ArcToolbox\Toolboxes\Data Management Tools.tbx\ColorBalanceMosaicDataset">ColorBalanceMosaicDataset "Database Connections\cocgis@coc_raster@GISSQL2.sde\coc_raster.COCGIS.COC2017_CCGISC_6IN" DODGING COLOR_GRID # # NONE 1 #</Process>
<Process Date="20190422" Time="153239" ToolSource="c:\program files\arcgis\pro\Resources\ArcToolbox\toolboxes\Data Management Tools.tbx\CalculateStatistics">CalculateStatistics "C:\Users\dierckrb\OneDrive - City of Champaign\Projects\ArcGIS Pro\General City Map\coc_raster.sde\coc_raster.COCGIS.COC2017_CCGISC_6IN" 1 1 # OVERWRITE "Feature Set"</Process>
<Process Date="20190426" Name="Calculate Statistics" Time="111351" ToolSource="c:\program files\arcgis\pro\Resources\ArcToolbox\toolboxes\Data Management Tools.tbx\CalculateStatistics">CalculateStatistics "C:\Users\dierckrb\Documents\ArcGIS\Projects\Raster Mosaic\coc_raster.sde\coc_raster.COCGIS.COC2017_CCGISC_6IN" 1 1 # OVERWRITE "Feature Set"</Process>
<Process Date="20200915" Time="144015" ToolSource="c:\program files (x86)\arcgis\desktop10.5\ArcToolbox\Toolboxes\Data Management Tools.tbx\CalculateStatistics">CalculateStatistics "Database Connections\cocgis@coc_raster@GISSQL2.sde\coc_raster.COCGIS.COC2017_CCGISC_6IN" 1 1 # OVERWRITE "Feature Set"</Process>
<Process Date="20210111" Time="173214" ToolSource="c:\program files (x86)\arcgis\desktop10.5\ArcToolbox\Toolboxes\Data Management Tools.tbx\Copy">Copy C:\Users\dierckrb\AppData\Roaming\ESRI\Desktop10.5\ArcCatalog\cocgis@coc_raster@GISSQL2.sde\coc_raster.COCGIS.COC2017_CCGISC_6IN C:\Users\dierckrb\AppData\Roaming\ESRI\Desktop10.5\ArcCatalog\cocgis@coc_portal_raster@GISSQL2.sde\coc_portal_raster.COCGIS.COC2017_CCGISC_6IN MosaicDataset</Process>
<Process Date="20220307" Time="164128" ToolSource="c:\program files\arcgis\pro\Resources\ArcToolbox\toolboxes\Data Management Tools.tbx\Copy">Copy cocgis@coc_raster_portal@gissql2.sde\coc_portal_raster.COCGIS.COC2017_CCGISC_6IN "D:\OneDrive - City of Champaign\Projects\ArcGIS Enterprise and Cityworks Upgrade 2022\ArcGIS Enterprise Migration\Raster Migration Project\cocgis@coc_raster@gissql3.sde\coc_raster.COCGIS.COC2017_CCGISC_6IN" MosaicDataset "MosaicCatalogItemCategoryDomain 'CV domain' MosaicCatalogItemCategoryDomain #"</Process>
</lineage>
<itemProps>
<itemName Sync="TRUE">coc_raster.COCGIS.COC2017_CCGISC_6IN</itemName>
<itemLocation>
<linkage Sync="TRUE">Server=gissql3; Service=sde:sqlserver:gissql3; Database=coc_raster; User=cocgis; Version=sde.DEFAULT</linkage>
<protocol Sync="TRUE">ArcSDE Connection</protocol>
</itemLocation>
<nativeExtBox>
<westBL Sync="TRUE">972500.000000</westBL>
<eastBL Sync="TRUE">1030000.000000</eastBL>
<southBL Sync="TRUE">1217500.000000</southBL>
<northBL Sync="TRUE">1285000.000000</northBL>
<exTypeCode Sync="TRUE">1</exTypeCode>
</nativeExtBox>
</itemProps>
<coordRef>
<type Sync="TRUE">Projected</type>
<geogcsn Sync="TRUE">GCS_NAD_1983_2011</geogcsn>
<csUnits Sync="TRUE">Linear Unit: Foot_US (0.304801)</csUnits>
<projcsn Sync="TRUE">NAD_1983_2011_StatePlane_Illinois_East_FIPS_1201_Ft_US</projcsn>
<peXml Sync="TRUE">&lt;ProjectedCoordinateSystem xsi:type='typens:ProjectedCoordinateSystem' xmlns:xsi='http://www.w3.org/2001/XMLSchema-instance' xmlns:xs='http://www.w3.org/2001/XMLSchema' xmlns:typens='http://www.esri.com/schemas/ArcGIS/2.2.0'&gt;&lt;WKT&gt;PROJCS[&amp;quot;NAD_1983_2011_StatePlane_Illinois_East_FIPS_1201_Ft_US&amp;quot;,GEOGCS[&amp;quot;GCS_NAD_1983_2011&amp;quot;,DATUM[&amp;quot;D_NAD_1983_2011&amp;quot;,SPHEROID[&amp;quot;GRS_1980&amp;quot;,6378137.0,298.257222101]],PRIMEM[&amp;quot;Greenwich&amp;quot;,0.0],UNIT[&amp;quot;Degree&amp;quot;,0.0174532925199433]],PROJECTION[&amp;quot;Transverse_Mercator&amp;quot;],PARAMETER[&amp;quot;False_Easting&amp;quot;,984250.0],PARAMETER[&amp;quot;False_Northing&amp;quot;,0.0],PARAMETER[&amp;quot;Central_Meridian&amp;quot;,-88.33333333333333],PARAMETER[&amp;quot;Scale_Factor&amp;quot;,0.999975],PARAMETER[&amp;quot;Latitude_Of_Origin&amp;quot;,36.66666666666666],UNIT[&amp;quot;Foot_US&amp;quot;,0.3048006096012192]],VERTCS[&amp;quot;NAVD_1988_Foot_US&amp;quot;,VDATUM[&amp;quot;North_American_Vertical_Datum_1988&amp;quot;],PARAMETER[&amp;quot;Vertical_Shift&amp;quot;,0.0],PARAMETER[&amp;quot;Direction&amp;quot;,1.0],UNIT[&amp;quot;Foot_US&amp;quot;,0.3048006096012192]]&lt;/WKT&gt;&lt;XOrigin&gt;-17463800&lt;/XOrigin&gt;&lt;YOrigin&gt;-46132600&lt;/YOrigin&gt;&lt;XYScale&gt;137244822.07846552&lt;/XYScale&gt;&lt;ZOrigin&gt;-100000&lt;/ZOrigin&gt;&lt;ZScale&gt;10000&lt;/ZScale&gt;&lt;MOrigin&gt;-100000&lt;/MOrigin&gt;&lt;MScale&gt;10000&lt;/MScale&gt;&lt;XYTolerance&gt;0.0032808333333333331&lt;/XYTolerance&gt;&lt;ZTolerance&gt;0.001&lt;/ZTolerance&gt;&lt;MTolerance&gt;0.001&lt;/MTolerance&gt;&lt;HighPrecision&gt;true&lt;/HighPrecision&gt;&lt;WKID&gt;103037&lt;/WKID&gt;&lt;LatestWKID&gt;6455&lt;/LatestWKID&gt;&lt;VCSWKID&gt;105703&lt;/VCSWKID&gt;&lt;LatestVCSWKID&gt;6360&lt;/LatestVCSWKID&gt;&lt;/ProjectedCoordinateSystem&gt;</peXml>
</coordRef>
<RasterProperties>
<General>
<PixelDepth Sync="TRUE">8</PixelDepth>
<HasColormap Sync="TRUE">FALSE</HasColormap>
<CompressionType Sync="TRUE">None</CompressionType>
<NumBands Sync="TRUE">4</NumBands>
<Format Sync="TRUE">AMD</Format>
<HasPyramids Sync="TRUE">TRUE</HasPyramids>
<SourceType Sync="TRUE">continuous</SourceType>
<PixelType Sync="TRUE">unsigned integer</PixelType>
<NoDataValue Sync="TRUE"/>
</General>
<Properties>
<MaxImageHeight Sync="TRUE">4100</MaxImageHeight>
<MaxImageWidth Sync="TRUE">15000</MaxImageWidth>
<MaxRecordCount Sync="TRUE">1000</MaxRecordCount>
<MaxDownloadImageCount Sync="TRUE">20</MaxDownloadImageCount>
<MaxDownloadSizeLimit Sync="TRUE">2048</MaxDownloadSizeLimit>
<MaxMosaicImageCount Sync="TRUE">20</MaxMosaicImageCount>
<DefaultCompressionQuality Sync="TRUE">75</DefaultCompressionQuality>
<DefaultCompressionTolerance Sync="TRUE">0.01</DefaultCompressionTolerance>
<BlendWidth Sync="TRUE">10</BlendWidth>
<ViewpointSpacingX Sync="TRUE">600</ViewpointSpacingX>
<ViewpointSpacingY Sync="TRUE">300</ViewpointSpacingY>
<AllowedItemMetadata Sync="TRUE">Basic</AllowedItemMetadata>
<DefaultResamplingMethod Sync="TRUE">1</DefaultResamplingMethod>
<AllowedMosaicMethods Sync="TRUE">NorthWest,Center,LockRaster,ByAttribute,Nadir,Viewpoint,Seamline,None</AllowedMosaicMethods>
<AllowedCompressions Sync="TRUE">None,JPEG,LZ77,LERC</AllowedCompressions>
<AllowedMensurationCapabilities Sync="TRUE">None</AllowedMensurationCapabilities>
<AvailableMensurationCapabilities Sync="TRUE">None,Basic,Base-Top Height,Top-Top Shadow Height,Base-Top Shadow Height,3D</AvailableMensurationCapabilities>
<ClipToBoundary Sync="TRUE">-1</ClipToBoundary>
<FootprintMayContainNoData Sync="TRUE">-1</FootprintMayContainNoData>
<CellSizeTolerance Sync="TRUE">0.8</CellSizeTolerance>
<MinimumPixelContribution Sync="TRUE">1</MinimumPixelContribution>
<AvailableMosaicMethods Sync="TRUE">NorthWest,Center,LockRaster,ByAttribute,Nadir,Viewpoint,Seamline,None</AvailableMosaicMethods>
<AvailableCompressionMethods Sync="TRUE">None,JPEG,LZ77,LERC</AvailableCompressionMethods>
<AvailableItemMetadataLevels Sync="TRUE">None,Basic,Full</AvailableItemMetadataLevels>
<BandDefinitionKeyword Sync="TRUE">NONE</BandDefinitionKeyword>
<AllowedFields Sync="TRUE">Name,MinPS,MaxPS,LowPS,HighPS,Tag,GroupName,ProductName,CenterX,CenterY,ZOrder,Shape.STArea(),Shape.STLength()</AllowedFields>
<MaxCellSize Sync="TRUE">12150</MaxCellSize>
<LowCellSize Sync="TRUE">0.5</LowCellSize>
<HighCellSize Sync="TRUE">243</HighCellSize>
<ApplyColorCorrection Sync="TRUE">0</ApplyColorCorrection>
</Properties>
<Functions Sync="TRUE">
<Function Description="Performs on-the-fly mosaic on a raster catalog." Name="Mosaic Function"/>
</Functions>
</RasterProperties>
</DataProperties>
<SyncDate>20181001</SyncDate>
<SyncTime>15235100</SyncTime>
<ModDate>20181001</ModDate>
<ModTime>15235100</ModTime>
<ArcGISstyle>FGDC CSDGM Metadata</ArcGISstyle>
</Esri>
<dataIdInfo>
<envirDesc Sync="TRUE">Microsoft Windows 10 Version 10.0 (Build 17134) ; Esri ArcGIS 12.2.1.12813</envirDesc>
<dataLang>
<languageCode Sync="TRUE" value="eng"/>
<countryCode Sync="TRUE" value="USA"/>
</dataLang>
<idCitation>
<resTitle Sync="TRUE">COC2017_CCGISC_6IN</resTitle>
<presForm>
<PresFormCd Sync="TRUE" value="005"/>
</presForm>
</idCitation>
<spatRpType>
<SpatRepTypCd Sync="TRUE" value="002"/>
</spatRpType>
<dataExt>
<geoEle>
<GeoBndBox esriExtentType="search">
<exTypeCode Sync="TRUE">1</exTypeCode>
<westBL Sync="TRUE">-88.375394</westBL>
<eastBL Sync="TRUE">-88.169565</eastBL>
<northBL Sync="TRUE">40.195152</northBL>
<southBL Sync="TRUE">40.009742</southBL>
</GeoBndBox>
</geoEle>
</dataExt>
<idAbs/>
<searchKeys>
<keyword>ccgisc</keyword>
<keyword>orthophotography</keyword>
</searchKeys>
<idPurp>CCGISC 2017 6" RGB</idPurp>
<idCredit/>
<resConst>
<Consts>
<useLimit/>
</Consts>
</resConst>
</dataIdInfo>
<mdLang>
<languageCode Sync="TRUE" value="eng"/>
<countryCode Sync="TRUE" value="USA"/>
</mdLang>
<refSysInfo>
<RefSystem>
<refSysID>
<identCode Sync="TRUE" code="6455"/>
<idCodeSpace Sync="TRUE">EPSG</idCodeSpace>
<idVersion Sync="TRUE">8.9.3(10.3.1)</idVersion>
</refSysID>
</RefSystem>
</refSysInfo>
<spatRepInfo>
<Georect>
<cellGeo>
<CellGeoCd Sync="TRUE" value="002"/>
</cellGeo>
<numDims Sync="TRUE">2</numDims>
<tranParaAv Sync="TRUE">1</tranParaAv>
<chkPtAv Sync="TRUE">0</chkPtAv>
<cornerPts>
<pos Sync="TRUE">972500.000000 1217500.000000</pos>
</cornerPts>
<cornerPts>
<pos Sync="TRUE">972500.000000 1285000.000000</pos>
</cornerPts>
<cornerPts>
<pos Sync="TRUE">1030000.000000 1285000.000000</pos>
</cornerPts>
<cornerPts>
<pos Sync="TRUE">1030000.000000 1217500.000000</pos>
</cornerPts>
<centerPt>
<pos Sync="TRUE">1001250.000000 1251250.000000</pos>
</centerPt>
<axisDimension type="002">
<dimSize Sync="TRUE">115000</dimSize>
<dimResol>
<value Sync="TRUE" uom="ftUS">0.500000</value>
</dimResol>
</axisDimension>
<axisDimension type="001">
<dimSize Sync="TRUE">135000</dimSize>
<dimResol>
<value Sync="TRUE" uom="ftUS">0.500000</value>
</dimResol>
</axisDimension>
<ptInPixel>
<PixOrientCd Sync="TRUE" value="001"/>
</ptInPixel>
</Georect>
</spatRepInfo>
<contInfo>
<ImgDesc>
<contentTyp>
<ContentTypCd Sync="TRUE" value="001"/>
</contentTyp>
<covDim>
<Band>
<dimDescrp Sync="TRUE">Band_1</dimDescrp>
<maxVal Sync="TRUE">255.000000</maxVal>
<minVal Sync="TRUE">0.000000</minVal>
<bitsPerVal Sync="TRUE">8</bitsPerVal>
<valUnit>
<UOM type="length"/>
</valUnit>
</Band>
<Band>
<dimDescrp Sync="TRUE">Band_2</dimDescrp>
<maxVal Sync="TRUE">255.000000</maxVal>
<minVal Sync="TRUE">0.000000</minVal>
<bitsPerVal Sync="TRUE">8</bitsPerVal>
<valUnit>
<UOM type="length"/>
</valUnit>
</Band>
<Band>
<dimDescrp Sync="TRUE">Band_3</dimDescrp>
<maxVal Sync="TRUE">255.000000</maxVal>
<minVal Sync="TRUE">0.000000</minVal>
<bitsPerVal Sync="TRUE">8</bitsPerVal>
<valUnit>
<UOM type="length"/>
</valUnit>
</Band>
<Band>
<dimDescrp Sync="TRUE">Band_4</dimDescrp>
<maxVal Sync="TRUE">255.000000</maxVal>
<minVal Sync="TRUE">0.000000</minVal>
<bitsPerVal Sync="TRUE">8</bitsPerVal>
<valUnit>
<UOM type="length"/>
</valUnit>
</Band>
</covDim>
</ImgDesc>
</contInfo>
<mdDateSt Sync="TRUE">20181001</mdDateSt>
</metadata>
